
BEGIN:VCALENDAR
VERSION:2.0
PRODID:-//Osservatorio Astrofisico di Catania - ECPv6.14.0//NONSGML v1.0//EN
CALSCALE:GREGORIAN
METHOD:PUBLISH
X-ORIGINAL-URL:https://www.oact.inaf.it
X-WR-CALDESC:Eventi per Osservatorio Astrofisico di Catania
REFRESH-INTERVAL;VALUE=DURATION:PT1H
X-Robots-Tag:noindex
X-PUBLISHED-TTL:PT1H
BEGIN:VTIMEZONE
TZID:UTC
BEGIN:STANDARD
TZOFFSETFROM:+0000
TZOFFSETTO:+0000
TZNAME:UTC
DTSTART:20170101T000000
END:STANDARD
END:VTIMEZONE
BEGIN:VEVENT
DTSTART;TZID=UTC:20171102T080000
DTEND;TZID=UTC:20171204T130000
DTSTAMP:20260423T090158
CREATED:20210105T113038Z
LAST-MODIFIED:20210105T113038Z
UID:4047-1509609600-1512392400@www.oact.inaf.it
SUMMARY:D.D. 158/2017 - Borsa di studio per Supporto alle osservazioni e validazione dati degli strumenti scientifici di SLN
DESCRIPTION:Pubblica selezione per titoli ed eventuale colloquio per il conferimento di una borsa di studio dal titolo “Supporto alle osservazioni e validazione dati degli strumenti scientifici di SLN” da svolgere presso la sede di Catania dell’Osservatorio. \nLe domande dovranno pervenire presso l’Osservatorio Astrofisico di Catania entro e non oltre le ore 13.00 del 4 Dicembre 2017. A tal fine non fa fede il timbro postale accettante ma il timbro del protocollo in arrivo dell’Osservatorio. \n  \n\nBando 158/2017\nAllegati\nEsito (Pubblicato il 21 Dicembre 2017)
URL:https://www.oact.inaf.it/event/d-d-158-2017-borsa-di-studio-per-supporto-alle-osservazioni-e-validazione-dati-degli-strumenti-scientifici-di-sln/
CATEGORIES:Borsa di studio,concluso,Opportunità di lavoro
ATTACH;FMTTYPE=image/jpeg:https://www.oact.inaf.it/wp-content/uploads/2019/06/concorsi_borse.jpg
END:VEVENT
BEGIN:VEVENT
DTSTART;TZID=UTC:20171122T080000
DTEND;TZID=UTC:20171220T130000
DTSTAMP:20260423T090158
CREATED:20210106T160707Z
LAST-MODIFIED:20210106T160707Z
UID:4215-1511337600-1513774800@www.oact.inaf.it
SUMMARY:D.D. 169/2017 - Assegno di ricerca nell'ambito del progetto GENESIS SKA
DESCRIPTION:Pubblica selezione\, per titoli ed eventuale colloquio\, per il conferimento di n. 1 assegno di collaborazione ad attività di ricerca (tipologia A\, Post-Doc) della durata di 1 anno dal titolo “Effetti indotti dal processamento energetico in analoghi interstellari”\, nell’ambito del progetto GENESIS SKA. \nLe domande dovranno pervenire presso l’Osservatorio Astrofisico di Catania entro e non oltre le ore 13.00 del 20 Dicembre 2017. A tal fine non fa fede il timbro dell’ufficio postale accettante ma il timbro del protocollo in arrivo apposto dall’Osservatorio. \n  \n\nScarica il Bando\nAllegati\nEsito (Pubblicato il 21 Dicembre 2017)
URL:https://www.oact.inaf.it/event/d-d-169-2017-assegno-di-ricerca-nellambito-del-progetto-genesis-ska/
CATEGORIES:Assegno di ricerca,concluso,Opportunità di lavoro
ATTACH;FMTTYPE=image/jpeg:https://www.oact.inaf.it/wp-content/uploads/2019/06/concorsi_adr.jpg
END:VEVENT
BEGIN:VEVENT
DTSTART;TZID=UTC:20171201T080000
DTEND;TZID=UTC:20180101T170000
DTSTAMP:20260423T090158
CREATED:20210104T223506Z
LAST-MODIFIED:20210104T223506Z
UID:3983-1512115200-1514826000@www.oact.inaf.it
SUMMARY:D.D. 168/2017 - Posto di Tecnologo III livello nell'ambito dei progetti di ricerca "AENEAS" e "ASTRI/CTA Data Challenge"
DESCRIPTION:Concorso pubblico\, per titoli e colloquio\, ad un posto di tecnologo III livello con contratto di lavoro a tempo determinato\, settore tecnico-scientifico “Informatica\, ed elaborazione dati” nell’ambito dei progetti di ricerca “AENEAS” e “ASTRI/CTA Data Challenge” presso l’Osservatorio Astrofisico di Catania. \nL’avviso verrà pubblicato sulla Gazzetta Ufficiale della Repubblica Italiana\, 4a Serie Speciale – Concorsi ed Esami n. 92 del 1.12.2017 (17E09111). \nLe domande di partecipazione devono essere inoltrate entro il termine di trenta giorni dal giorno successivo a quello di pubblicazione sulla Gazzetta Ufficiale. Qualora il termine di scadenza cada in giorno festivo\, la scadenza è prorogata al primo giorno feriale utile. \n  \n\nBando 168/2017 \nAllegati  (rieditato il 4 Dicembre 2017)\nGraduatoria di merito (pubblicato il 19 Febbraio 2018) – Avviso pubblicato sulla Gazzetta Ufficiale 4 Serie Speciale n. 20 del 9.03.2018
URL:https://www.oact.inaf.it/event/d-d-168-2017-posto-di-tecnologo-iii-livello-nellambito-dei-progetti-di-ricerca-aeneas-e-astri-cta-data-challenge/
CATEGORIES:concluso,Opportunità di lavoro,Tempo determinato
ATTACH;FMTTYPE=image/jpeg:https://www.oact.inaf.it/wp-content/uploads/2019/06/concorsi_det.jpg
END:VEVENT
END:VCALENDAR