
BEGIN:VCALENDAR
VERSION:2.0
PRODID:-//Osservatorio Astrofisico di Catania - ECPv6.14.0//NONSGML v1.0//EN
CALSCALE:GREGORIAN
METHOD:PUBLISH
X-ORIGINAL-URL:https://www.oact.inaf.it
X-WR-CALDESC:Eventi per Osservatorio Astrofisico di Catania
REFRESH-INTERVAL;VALUE=DURATION:PT1H
X-Robots-Tag:noindex
X-PUBLISHED-TTL:PT1H
BEGIN:VTIMEZONE
TZID:UTC
BEGIN:STANDARD
TZOFFSETFROM:+0000
TZOFFSETTO:+0000
TZNAME:UTC
DTSTART:20200101T000000
END:STANDARD
END:VTIMEZONE
BEGIN:VEVENT
DTSTART;TZID=UTC:20200410T080000
DTEND;TZID=UTC:20200410T170000
DTSTAMP:20260424T140046
CREATED:20210105T151328Z
LAST-MODIFIED:20210105T151351Z
UID:4062-1586505600-1586538000@www.oact.inaf.it
SUMMARY:D.D. 33/2020 - Posto di Tecnologo III livello con contratto di lavoro a tempo pieno e determinato
DESCRIPTION:Concorso pubblico\, per titoli e colloquio\, a un posto di Tecnologo III livello con contratto di lavoro a tempo pieno e determinato dal titolo “Studio e caratterizzazione di rivelatori per radiografia muonica di vulcani e caratterizzazione di rivelatori SiPM mediante strumentazione elettro-ottica specifica”\, presso l’Istituto Nazionale di Astrofisica-Osservatorio Astrofisico di Catania. \nL’avviso è pubblicato sulla Gazzetta Ufficiale della Repubblica Italiana\, 4a Serie Speciale – Concorsi ed Esami n. 29 del 10-04-2020. \n  \n\nBando 33/2020\nALLEGATI\nDetermina Aggiuntiva – modalita’ di svolgimento dei lavori della commissione e colloquio (pubblicato il 29 Maggio 2020)\nAvviso Colloquio Telematico (pubblicato il 30 Luglio 2020)\nEsito colloquio (pubblicato il 31 Luglio 2020)\nApprovazione atti e graduatoria (Avviso pubblicato sulla Gazzetta Ufficiale IV serie speciale n. 68 del 1.09.2020)
URL:https://www.oact.inaf.it/event/d-d-n-33-2020-posto-di-tecnologo-iii-livello-con-contratto-di-lavoro-a-tempo-pieno-e-determinato-2/
CATEGORIES:concluso,Opportunità di lavoro,Tempo determinato
ATTACH;FMTTYPE=image/jpeg:https://www.oact.inaf.it/wp-content/uploads/2019/06/concorsi_det.jpg
END:VEVENT
END:VCALENDAR