
BEGIN:VCALENDAR
VERSION:2.0
PRODID:-//Osservatorio Astrofisico di Catania - ECPv6.14.0//NONSGML v1.0//EN
CALSCALE:GREGORIAN
METHOD:PUBLISH
X-ORIGINAL-URL:https://www.oact.inaf.it
X-WR-CALDESC:Eventi per Osservatorio Astrofisico di Catania
REFRESH-INTERVAL;VALUE=DURATION:PT1H
X-Robots-Tag:noindex
X-PUBLISHED-TTL:PT1H
BEGIN:VTIMEZONE
TZID:UTC
BEGIN:STANDARD
TZOFFSETFROM:+0000
TZOFFSETTO:+0000
TZNAME:UTC
DTSTART:20200101T000000
END:STANDARD
END:VTIMEZONE
BEGIN:VEVENT
DTSTART;TZID=UTC:20200617T080000
DTEND;TZID=UTC:20200617T170000
DTSTAMP:20260425T162334
CREATED:20190620T143908Z
LAST-MODIFIED:20210104T171812Z
UID:59-1592380800-1592413200@www.oact.inaf.it
SUMMARY:Esplorazioni geologiche senza barriere
DESCRIPTION:Aula Ovest\, Osservatorio Astrofisico di Catania – Iscrizione Obbligatoria  \nL’evento previsto per Sabato 30 Marzo ha lo scopo principale di permettere l’esplorazione del territorio (geologica) utilizzando tecnologie innovative che permettono la piena fruibilità a tutti gli studenti anche a coloro affetti da disabilità motorie. I partecipanti potranno vivere una giornata da esploratori\, come veri geologi\, attraverso l’utilizzo della REALTA’ VIRTUALE IMMERSIVA. \nL’evento è patrocinato dall’ Osservatorio Astrofisico di Catania (INAF)\, dal Dipartimento di Scienze dell’Ambiente e della Terra (DISAT – UNIMIB)\, dalla Società Geologica Italiana e dalla European Geosciences Union. \nL’evento prevede due attività laboratoriali\, una al mattino ed una al pomeriggio. \nAudience Attiva 1° turno: mattino 10:00 – 13:00 (Registrazione ore 09:30)\nAudience Attiva 2° turno: pomeriggio 15:00 – 18:00 (Registrazione ore 14:30) \nI partecipanti tramite la realtà virtuale immersiva\, esploreranno e studieranno i più famosi vulcani italiani\, il supervulcano Santorini e le fratture e le faglie islandesi. Il tutto avverrà attraverso l’utilizzo della realtà virtuale immersiva sviluppata all’interno di due nostri progetti: Argo3D e 3DTELC Erasmus+ . \nReferenti per l’evento:\nDr. Fabio Vitello – fabio.vitello@inaf.it\nDr. Giuseppe Cutispoto – giuseppe.cutispoto@inaf.it\nDr. Fabio Bonali – fabio.bonali@unimib.it \nVisita il sito del precedente evento Esplorazioni Geologiche senza barriere svolto a Milano il 16 Gennaio 2019.
URL:https://www.oact.inaf.it/event/esplorazioni-geologiche-senza-barriere/
CATEGORIES:Eventi & Seminari
ATTACH;FMTTYPE=image/jpeg:https://www.oact.inaf.it/wp-content/uploads/2019/06/vr_intro.jpg
END:VEVENT
END:VCALENDAR