
BEGIN:VCALENDAR
VERSION:2.0
PRODID:-//Osservatorio Astrofisico di Catania - ECPv6.14.0//NONSGML v1.0//EN
CALSCALE:GREGORIAN
METHOD:PUBLISH
X-ORIGINAL-URL:https://www.oact.inaf.it
X-WR-CALDESC:Eventi per Osservatorio Astrofisico di Catania
REFRESH-INTERVAL;VALUE=DURATION:PT1H
X-Robots-Tag:noindex
X-PUBLISHED-TTL:PT1H
BEGIN:VTIMEZONE
TZID:UTC
BEGIN:STANDARD
TZOFFSETFROM:+0000
TZOFFSETTO:+0000
TZNAME:UTC
DTSTART:20140101T000000
END:STANDARD
END:VTIMEZONE
BEGIN:VEVENT
DTSTART;TZID=UTC:20141219T080000
DTEND;TZID=UTC:20150119T130000
DTSTAMP:20260422T121546
CREATED:20210106T153403Z
LAST-MODIFIED:20210106T153403Z
UID:4177-1418976000-1421672400@www.oact.inaf.it
SUMMARY:D.D. 319/2014 - Assegno di ricerca nell’ambito del progetto Fp7 “ViaLactea”
DESCRIPTION:Pubblica selezione per il conferimento di un assegno di ricerca di tipo ‘A POST DOC’ presso l’INAF-Osservatorio Astrofisico di Catania – “ViaLactea” FP7. \nLe domande dovranno pervenire presso l’Osservatorio Astrofisico di Catania entro e non oltre le ore 13.00 del 19 Gennaio 2015. A tal fine non fa fede il timbro dell’ufficio postale accettante ma il timbro del protocollo in arrivo apposto dall’Osservatorio. \n  \n\nBando \nAllegati\nDD 6/2015 Approvazione atti\nEsito (Pubblicati il 21 Gennaio 2015)
URL:https://www.oact.inaf.it/event/d-d-319-2014-assegno-di-ricerca-nellambito-del-progetto-fp7-vialactea/
CATEGORIES:Assegno di ricerca,concluso,Opportunità di lavoro
ATTACH;FMTTYPE=image/jpeg:https://www.oact.inaf.it/wp-content/uploads/2019/06/concorsi_adr.jpg
END:VEVENT
BEGIN:VEVENT
DTSTART;TZID=UTC:20150120T080000
DTEND;TZID=UTC:20150226T130000
DTSTAMP:20260422T121546
CREATED:20210106T153655Z
LAST-MODIFIED:20210106T153655Z
UID:4180-1421740800-1424955600@www.oact.inaf.it
SUMMARY:D.D. 01/2015 - Assegno di ricerca nell’ambito del progetto di ricerca premiale "iALMA"
DESCRIPTION:Pubblica selezione per il conferimento di un assegno di ricerca di tipo ‘A POST DOC’ per 12 mesi rinnovabile\, presso l’INAF-Osservatorio Astrofisico di Catania\, progetto premiale 2012 “iALMA” con inizio presunto 1 Aprile 2015. \nLe domande dovranno pervenire presso l’Osservatorio Astrofisico di Catania entro e non oltre le ore 13.00 del 26 Febbraio 2015.\nA tal fine non fa fede il timbro dell’ufficio postale accettante ma il timbro del protocollo in arrivo apposto dall’Osservatorio. \n  \n\nBando\nAllegati\nApprovazione Atti\nEsito (Pubblicati il 13 Marzo 2015)\nScorrimento graduatoria\n\n  \n \nCall for applications concerning a public competition for the awarding of one research fellowship post-doc from 1 April 2015 to 31 March 2016\, entitled: “iALMA“. Applications must be submitted\, by registered letter with acknowledgment of receipt\, to the Director of INAF-Osservatorio Astrofisico di Catania\, Via Santa Sofia 78 95123 Catania – Italia\, and must be received within 13:00\, local time\, on 26 February 2015. Late delivery will not be considered. \n  \n\nCall 01/15\nAnnexes\nApproval documents\nOutcome (published on March 13\, 2015)\nSliding ranking
URL:https://www.oact.inaf.it/event/d-d-01-2015-assegno-di-ricerca-nellambito-del-progetto-di-ricerca-premiale-ialma/
CATEGORIES:Assegno di ricerca,concluso,Opportunità di lavoro
ATTACH;FMTTYPE=image/jpeg:https://www.oact.inaf.it/wp-content/uploads/2019/06/concorsi_adr.jpg
END:VEVENT
END:VCALENDAR