
BEGIN:VCALENDAR
VERSION:2.0
PRODID:-//Osservatorio Astrofisico di Catania - ECPv6.14.0//NONSGML v1.0//EN
CALSCALE:GREGORIAN
METHOD:PUBLISH
X-ORIGINAL-URL:https://www.oact.inaf.it
X-WR-CALDESC:Eventi per Osservatorio Astrofisico di Catania
REFRESH-INTERVAL;VALUE=DURATION:PT1H
X-Robots-Tag:noindex
X-PUBLISHED-TTL:PT1H
BEGIN:VTIMEZONE
TZID:UTC
BEGIN:STANDARD
TZOFFSETFROM:+0000
TZOFFSETTO:+0000
TZNAME:UTC
DTSTART:20180101T000000
END:STANDARD
END:VTIMEZONE
BEGIN:VEVENT
DTSTART;TZID=UTC:20180905T080000
DTEND;TZID=UTC:20181005T170000
DTSTAMP:20260424T115452
CREATED:20210104T223909Z
LAST-MODIFIED:20210104T223909Z
UID:3989-1536134400-1538758800@www.oact.inaf.it
SUMMARY:D.D. 127/2018 -  Posto di Ricercatore III livello nell’ambito del progetto PLATO
DESCRIPTION:Concorso pubblico per titoli e colloquio ad un posto di Ricercatore III livello con contratto di lavoro a tempo pieno e determinato\, Macroarea 2 “Stelle. popolazioni stellari e mezzo interstellare” nell’ambito del progetto PLATO\, presso l’Istituto Nazionale di Astrofisica-Osservatorio Astrofisico di Catania. \nL’avviso è pubblicato sulla Gazzetta Ufficiale della Repubblica Italiana\, 4a Serie Speciale – Concorsi ed Esami n. 70 del 4-09-2018. \nLe domande di partecipazione devono essere inoltrate entro il termine di trenta giorni dal giorno successivo a quello della pubblicazione sulla\nGazzetta Ufficiale. Qualora il termine di scadenza coincida con un giorno festivo\, la scadenza sarà prorogata al giorno immediatamente successivo non festivo. \n  \n\nBando 127/2018\nALLEGATI\nNomina Commissione (pubblicato il 13 Novembre 2018)
URL:https://www.oact.inaf.it/event/d-d-127-2018-posto-di-ricercatore-iii-livello-nellambito-del-progetto-plato/
CATEGORIES:concluso,Opportunità di lavoro,Tempo determinato
ATTACH;FMTTYPE=image/jpeg:https://www.oact.inaf.it/wp-content/uploads/2019/06/concorsi_det.jpg
END:VEVENT
BEGIN:VEVENT
DTSTART;TZID=UTC:20181015T080000
DTEND;TZID=UTC:20181105T130000
DTSTAMP:20260424T115452
CREATED:20210106T162813Z
LAST-MODIFIED:20210106T162813Z
UID:4232-1539590400-1541422800@www.oact.inaf.it
SUMMARY:D.D. 150/2018 - Assegno di ricerca nell'ambito del progetto CAOS
DESCRIPTION:Pubblica selezione per titoli ed eventuale colloquio per il conferimento di un assegno di ricerca post-dottorato\, della durata di 12 mesi\, nell’ambito del progetto CAOS. \nLe domande dovranno pervenire presso l’Osservatorio Astrofisico di Catania entro e non oltre le ore 13.00 del 05.11.2018. A tal fine non fa fede il timbro dell’ufficio postale accettante ma il timbro di protocollo in arrivo apposto dall’Osservatorio \n  \n\nScarica il Bando\nAllegati\nESITO (Pubblicato il 26 Novembre 2018)
URL:https://www.oact.inaf.it/event/d-d-150-2018-assegno-di-ricerca-nellambito-del-progetto-caos/
CATEGORIES:Assegno di ricerca,concluso,Opportunità di lavoro
ATTACH;FMTTYPE=image/jpeg:https://www.oact.inaf.it/wp-content/uploads/2019/06/concorsi_adr.jpg
END:VEVENT
BEGIN:VEVENT
DTSTART;TZID=UTC:20181023T080000
DTEND;TZID=UTC:20181123T130000
DTSTAMP:20260424T115452
CREATED:20210106T163054Z
LAST-MODIFIED:20210106T163054Z
UID:4234-1540281600-1542978000@www.oact.inaf.it
SUMMARY:D.D. 159/2018 - Assegno di ricerca “SUPERNOVA”
DESCRIPTION:Pubblica selezione per titoli ed eventuale colloquio per il conferimento di un assegno di ricerca post-dottorato\, della durata di 12 mesi\, nell’ambito del progetto “Resti di supernova come acceleratori cosmici”. \nLe domande dovranno pervenire presso l’Osservatorio Astrofisico di Catania entro e non oltre le ore 13.00 del 23.11.2018. A tal fine non fa fede il timbro dell’ufficio postale accettante ma il timbro di protocollo in arrivo apposto dall’Osservatorio. \n  \n\nScarica il Bando\nAllegati\nESITO
URL:https://www.oact.inaf.it/event/d-d-159-2018-assegno-di-ricerca-supernova/
CATEGORIES:Assegno di ricerca,concluso,Opportunità di lavoro
ATTACH;FMTTYPE=image/jpeg:https://www.oact.inaf.it/wp-content/uploads/2019/06/concorsi_adr.jpg
END:VEVENT
END:VCALENDAR